BEGIN:VCALENDAR
VERSION:2.0
PRODID:-//Explore Paynesville - ECPv6.15.20//NONSGML v1.0//EN
CALSCALE:GREGORIAN
METHOD:PUBLISH
X-WR-CALNAME:Explore Paynesville
X-ORIGINAL-URL:https://www.explorepaynesville.com
X-WR-CALDESC:Events for Explore Paynesville
REFRESH-INTERVAL;VALUE=DURATION:PT1H
X-Robots-Tag:noindex
X-PUBLISHED-TTL:PT1H
BEGIN:VTIMEZONE
TZID:America/Chicago
BEGIN:DAYLIGHT
TZOFFSETFROM:-0600
TZOFFSETTO:-0500
TZNAME:CDT
DTSTART:20250309T080000
END:DAYLIGHT
BEGIN:STANDARD
TZOFFSETFROM:-0500
TZOFFSETTO:-0600
TZNAME:CST
DTSTART:20251102T070000
END:STANDARD
BEGIN:DAYLIGHT
TZOFFSETFROM:-0600
TZOFFSETTO:-0500
TZNAME:CDT
DTSTART:20260308T080000
END:DAYLIGHT
BEGIN:STANDARD
TZOFFSETFROM:-0500
TZOFFSETTO:-0600
TZNAME:CST
DTSTART:20261101T070000
END:STANDARD
BEGIN:DAYLIGHT
TZOFFSETFROM:-0600
TZOFFSETTO:-0500
TZNAME:CDT
DTSTART:20270314T080000
END:DAYLIGHT
BEGIN:STANDARD
TZOFFSETFROM:-0500
TZOFFSETTO:-0600
TZNAME:CST
DTSTART:20271107T070000
END:STANDARD
END:VTIMEZONE
BEGIN:VEVENT
DTSTART;TZID=America/Chicago:20260416T140000
DTEND;TZID=America/Chicago:20260416T144500
DTSTAMP:20260424T051040
CREATED:20260303T195012Z
LAST-MODIFIED:20260409T143608Z
UID:101-1776348000-1776350700@www.explorepaynesville.com
SUMMARY:Storytime - books\, songs\, and rhymes with Ms. Wendi
DESCRIPTION:Families welcome. Please call the register. 320.243.7343
URL:https://www.explorepaynesville.com/event/storytime-books-songs-and-rhymes-with-ms-wendi/
LOCATION:Great River Regional Library\, 119 Washburne Ave\, Paynesville\, Minnesota\, 56362
ATTACH;FMTTYPE=image/jpeg:https://www.explorepaynesville.com/wp-content/uploads/2026/03/AdobeStock_204057110-scaled.avif
END:VEVENT
END:VCALENDAR